BEGIN:VCALENDAR
VERSION:2.0
PRODID:-//Civic Nebraska - ECPv6.14.2//NONSGML v1.0//EN
CALSCALE:GREGORIAN
METHOD:PUBLISH
X-WR-CALNAME:Civic Nebraska
X-ORIGINAL-URL:https://civicnebraska.org
X-WR-CALDESC:Events for Civic Nebraska
REFRESH-INTERVAL;VALUE=DURATION:PT1H
X-Robots-Tag:noindex
X-PUBLISHED-TTL:PT1H
BEGIN:VTIMEZONE
TZID:America/Chicago
BEGIN:DAYLIGHT
TZOFFSETFROM:-0600
TZOFFSETTO:-0500
TZNAME:CDT
DTSTART:20220313T080000
END:DAYLIGHT
BEGIN:STANDARD
TZOFFSETFROM:-0500
TZOFFSETTO:-0600
TZNAME:CST
DTSTART:20221106T070000
END:STANDARD
END:VTIMEZONE
BEGIN:VEVENT
DTSTART;TZID=America/Chicago:20220423T090000
DTEND;TZID=America/Chicago:20220423T113000
DTSTAMP:20260420T064534
CREATED:20220404T212927Z
LAST-MODIFIED:20220404T212927Z
UID:34549-1650704400-1650713400@civicnebraska.org
SUMMARY:Intertribal Spiritual Walk
DESCRIPTION:Join the Community and Youth Collaborative for the inaugural Intertribal Spiritual Walk. All are welcome to walk – to bring healing\, ceremony\, and education to the forefront of this grassroots movement. Together\, we will create sustainable and healthy communities. \nWe welcome Ted Hibbeler\, University of Nebraska Indigenous Food Sovereignty program director\, to lead the Community & Youth Collaborative on our walk from Lincoln High School to the Indian Center\, 1100 Military Road\, for our breaking-ground ceremony. \nJoin us at 9 am on the north side of Lincoln High to depart on foot for the Indian Center.
URL:https://civicnebraska.org/event/20220423-intertribal-spiritual-walk/
LOCATION:NE
CATEGORIES:In-Person Gathering,Youth Civic Leadership
ATTACH;FMTTYPE=image/jpeg:https://civicnebraska.org/wp-content/uploads/2022/04/20220423-Intertribal-Spiritual-Walk.jpg
END:VEVENT
END:VCALENDAR