BEGIN:VCALENDAR
VERSION:2.0
PRODID:-//Civic Nebraska - ECPv6.14.2//NONSGML v1.0//EN
CALSCALE:GREGORIAN
METHOD:PUBLISH
X-WR-CALNAME:Civic Nebraska
X-ORIGINAL-URL:https://civicnebraska.org
X-WR-CALDESC:Events for Civic Nebraska
REFRESH-INTERVAL;VALUE=DURATION:PT1H
X-Robots-Tag:noindex
X-PUBLISHED-TTL:PT1H
BEGIN:VTIMEZONE
TZID:America/Chicago
BEGIN:DAYLIGHT
TZOFFSETFROM:-0600
TZOFFSETTO:-0500
TZNAME:CDT
DTSTART:20260308T080000
END:DAYLIGHT
BEGIN:STANDARD
TZOFFSETFROM:-0500
TZOFFSETTO:-0600
TZNAME:CST
DTSTART:20261101T070000
END:STANDARD
END:VTIMEZONE
BEGIN:VEVENT
DTSTART;TZID=America/Chicago:20260207T100000
DTEND;TZID=America/Chicago:20260207T140000
DTSTAMP:20260420T062348
CREATED:20260126T165306Z
LAST-MODIFIED:20260126T165306Z
UID:72000-1770458400-1770472800@civicnebraska.org
SUMMARY:Take Civic Action! Power Mapping Training + Panel on Effective Grassroots Advocacy
DESCRIPTION:Do you want to make your voice heard this legislative session? Join us on February 7\, 2026 for a training on power mapping followed up with a panel on effective grassroots advocacy. This gathering is an opportunity to connect with other dedicated advocates and sharpen your skills early in the legislative session. \nRegister here! \nCan’t make it in-person? That’s okay! You can still register for the Zoom to for the Panel on Effective Grassroots Advocacy here.
URL:https://civicnebraska.org/event/take-civic-action-power-mapping-training-panel-on-effective-grassroots-advocacy/
LOCATION:Civic Nebraska\, 206 S 13th STE 800\, Lincoln\, Nebraska\, 68508
ATTACH;FMTTYPE=image/png:https://civicnebraska.org/wp-content/uploads/2026/01/Take-Civic-Action-Legislature-101-Bill-Review-3.png
END:VEVENT
END:VCALENDAR